BEGIN:VCALENDAR
VERSION:2.0
PRODID:-//Developing Together Social Work Teaching Partnership - ECPv6.9.1//NONSGML v1.0//EN
CALSCALE:GREGORIAN
METHOD:PUBLISH
X-WR-CALNAME:Developing Together Social Work Teaching Partnership
X-ORIGINAL-URL:https://www.developingtogetherswtp.org.uk
X-WR-CALDESC:Events for Developing Together Social Work Teaching Partnership
REFRESH-INTERVAL;VALUE=DURATION:PT1H
X-Robots-Tag:noindex
X-PUBLISHED-TTL:PT1H
BEGIN:VTIMEZONE
TZID:Europe/London
BEGIN:DAYLIGHT
TZOFFSETFROM:+0000
TZOFFSETTO:+0100
TZNAME:BST
DTSTART:20200329T010000
END:DAYLIGHT
BEGIN:STANDARD
TZOFFSETFROM:+0100
TZOFFSETTO:+0000
TZNAME:GMT
DTSTART:20201025T010000
END:STANDARD
END:VTIMEZONE
BEGIN:VEVENT
DTSTART;TZID=Europe/London:20201020T093000
DTEND;TZID=Europe/London:20201020T160000
DTSTAMP:20260424T141618
CREATED:20201020T121212Z
LAST-MODIFIED:20201020T121309Z
UID:6897-1603186200-1603209600@www.developingtogetherswtp.org.uk
SUMMARY:Wellbeing & Resilience in Social Work Event - 16.11.2020
DESCRIPTION:Join us for our latest Wellbeing & Resilience in Social Work Event\, on 16 November 2020. There are 3 sessions taking place; you can choose to sign up to one or more of the sessions using the links on the flyer below: \n			\n				\n					\n						\n							\n							Loading...\n						\n					\n					\n						\n							\n							Taking too long?\n						\n						\n							\n								 Reload document							\n							|\n							\n								 Open in new tab							\n					\n				\n			\n		Download
URL:https://www.developingtogetherswtp.org.uk/event/wellbeing-resilience-in-social-work-event-16-11-2020/
LOCATION:Online – Zoom
ATTACH;FMTTYPE=image/jpeg:https://www.developingtogetherswtp.org.uk/wp-content/uploads/2019/09/GettyImages-480623844-scaled.jpg
ORGANIZER;CN="Developing Together Social Work Teaching Partnership":MAILTO:admin@developingtogetherswtp.org.uk
END:VEVENT
END:VCALENDAR